BEGIN:VCALENDAR
PRODID:-//eluceo/ical//2.0/EN
VERSION:2.0
CALSCALE:GREGORIAN
BEGIN:VEVENT
UID:137a5e791c0e9ea2de39420186cd92d6
DTSTAMP:20260422T114133Z
SUMMARY:13. Fundur starfsárs - AFLÝST!
DESCRIPTION:
URL:https://saudarkrokur.rotary1360.is/is/agenda/show/2309
DTSTART;TZID=Iceland:20201119T180000
DTEND;TZID=Iceland:20201119T191500
LOCATION:Kaffi Krókur\nAðalgata 16\n550 Sauðárkrókur\n
CATEGORIES:Rotary
END:VEVENT
BEGIN:VTIMEZONE
TZID:Iceland
BEGIN:STANDARD
DTSTART:20201119T180000
TZNAME:GMT
TZOFFSETTO:+0000
TZOFFSETFROM:+0000
END:STANDARD
END:VTIMEZONE
END:VCALENDAR
